BEGIN:VCALENDAR
VERSION:2.0
PRODID:-//80.74.142.229//NONSGML kigkonsult.se iCalcreator 2.22//
BEGIN:VEVENT
UID:20260426T023258CEST-47895Mv7P6@80.74.142.229
DTSTAMP:20260426T003258Z
CREATED:20141223T165327Z
DESCRIPTION;VALUE=CHARSET=UTF-8:Swiss City Marathon
DTSTART;TZID=Europe/Berlin:20151025T090000
DTEND;TZID=Europe/Berlin:20151025T120000
LOCATION:Verkehrshaus der Schweiz\, Lidostrasse 5\, 6006 Luzern\, Schweiz
SUMMARY;VALUE=CHARSET=UTF-8:Luzern Marathon
END:VEVENT
BEGIN:VEVENT
UID:20260426T023258CEST-47923zNA37@80.74.142.229
DTSTAMP:20260426T003258Z
CREATED:20141223T165854Z
DESCRIPTION;VALUE=CHARSET=UTF-8:Neujahrsmarathon Zürich
DTSTART;TZID=Europe/Berlin:20150101T000000
DTEND;TZID=Europe/Berlin:20150101T040000
LOCATION:Zürcherstrasse 24\, 8952 Schlieren\, Schweiz
SUMMARY;VALUE=CHARSET=UTF-8:Neujahrsmarathon Zürich
END:VEVENT
END:VCALENDAR
